BEGIN:VCALENDAR
VERSION:2.0
PRODID:-//vdää* - ECPv6.15.20//NONSGML v1.0//EN
CALSCALE:GREGORIAN
METHOD:PUBLISH
X-WR-CALNAME:vdää*
X-ORIGINAL-URL:https://www.vdaeae.de
X-WR-CALDESC:Veranstaltungen für vdää*
REFRESH-INTERVAL;VALUE=DURATION:PT1H
X-Robots-Tag:noindex
X-PUBLISHED-TTL:PT1H
BEGIN:VTIMEZONE
TZID:Europe/Berlin
BEGIN:DAYLIGHT
TZOFFSETFROM:+0100
TZOFFSETTO:+0200
TZNAME:CEST
DTSTART:20230326T010000
END:DAYLIGHT
BEGIN:STANDARD
TZOFFSETFROM:+0200
TZOFFSETTO:+0100
TZNAME:CET
DTSTART:20231029T010000
END:STANDARD
BEGIN:DAYLIGHT
TZOFFSETFROM:+0100
TZOFFSETTO:+0200
TZNAME:CEST
DTSTART:20240331T010000
END:DAYLIGHT
BEGIN:STANDARD
TZOFFSETFROM:+0200
TZOFFSETTO:+0100
TZNAME:CET
DTSTART:20241027T010000
END:STANDARD
BEGIN:DAYLIGHT
TZOFFSETFROM:+0100
TZOFFSETTO:+0200
TZNAME:CEST
DTSTART:20250330T010000
END:DAYLIGHT
BEGIN:STANDARD
TZOFFSETFROM:+0200
TZOFFSETTO:+0100
TZNAME:CET
DTSTART:20251026T010000
END:STANDARD
END:VTIMEZONE
BEGIN:VEVENT
DTSTART;TZID=Europe/Berlin:20241021T183000
DTEND;TZID=Europe/Berlin:20241021T213000
DTSTAMP:20260420T180057
CREATED:20241011T100404Z
LAST-MODIFIED:20241011T100404Z
UID:11845-1729535400-1729546200@www.vdaeae.de
SUMMARY:Podiumsdiskussion: “Schmerzgriffe als polizeiliche Praxis: Menschenrechte schützen\, Polizeigewalt entgegentreten”
DESCRIPTION:Ber­lin\, Nach­bar­schafts­haus Urban­stra­ße\, Mitt­woch\, 23. Okto­ber 2024\, 18.30 Uhr \n\n\n\n\nPodi­ums­ge­spräch\n\n\nDer Ein­tritt ist frei.   \nEs wird um eine Anmel­dung bis zum 21. Okto­ber unter die­sem Link gebe­ten. \nDie Podi­ums­dis­kus­si­on fin­det in deut­scher Spra­che statt. Die Ver­an­stal­ten­den ver­su­chen\, eine Über­set­zung ins Ara­bi­sche zu orga­ni­sie­ren und infor­mie­ren dazu schnellst­mög­lich. Der Ver­an­stal­tungs­ort ist bar­rie­re­arm. Auf der rech­ten Sei­te der Ein­gangs­trep­pe befin­det sich der Zugang zum Auf­zug.\nUns ist bewusst\, dass das The­ma ins­be­son­de­re für unmit­tel­bar Betrof­fe­ne sehr belas­tend sein kann. Die Veranstalter*innen wer­den sich bemü­hen\, ein Awa­re­ness-Team vor Ort zu haben und dar­über über die Anmel­dung infor­mie­ren. \nWor­um geht es bei der Podi­ums­dis­kus­si­on am 23. Okto­ber genau? \nSoge­nann­te Schmerz­grif­fe gehö­ren in vie­len Bun­des­län­dern zur poli­zei­li­chen Pra­xis – und haben erschre­cken­de Nor­ma­li­tät erlangt. Betrof­fe­ne ras­sis­ti­scher Poli­zei­ein­sät­ze erle­ben die­se Pra­xis schon lan­ge und auch Kli­ma­pro­tes­tie­ren­de sind zuneh­mend von Schmerz­grif­fen betrof­fen. Aus men­schen­recht­li­cher Sicht ist der Ein­satz von Schmerz­grif­fen höchst pro­ble­ma­tisch. \nDoch wie wir­ken Schmerz­grif­fe eigent­lich genau? Was rich­ten sie im mensch­li­chen Kör­per an? Wie sind sie als poli­zei­li­che Maß­nah­me recht­lich zu bewer­ten? Kön­nen Schmerz­grif­fe juris­tisch unter den Fol­ter­be­griff der Euro­päi­schen Men­schen­rechts­kon­ven­ti­on gefasst wer­den? Wie kann die Zivil­ge­sell­schaft sich gemein­sam posi­tio­nie­ren und soli­da­risch zei­gen gegen die­se sich zuneh­mend ver­selbst­stän­di­gen­den Poli­zei­prak­ti­ken? \nEs wird die Pro­ble­ma­tik von Poli­zei­ge­walt auf­ge­zeigt\, gezielt über Lösungs­an­sät­ze gespro­chen und dis­ku­tiert\, was es braucht\, um Men­schen­rech­te zu schüt­zen. \nIsa Paßlick vom Ver­ein demo­kra­ti­scher Ärzt*innen wird einen kur­zen Input zu den medi­zi­ni­schen Aus­wir­kun­gen von Schmerz­grif­fen geben. \nMode­ra­ti­on:  \n\nPau­la Zim­mer­mann\, Amnes­ty Inter­na­tio­nal Deutsch­land e.V.\n\nDis­kus­si­ons­teil­neh­men­de auf dem Podi­um sind: \n\nZefa­ni­as Mund­zik\, Betrof­fe­ner ras­sis­ti­scher Poli­zei­ge­walt\nPar­to Tavan­gar\, ReachOut Ber­lin\nLars Rit­ter\, Letz­te Gene­ra­ti­on\nJosch­ka Selin­ger\, Gesell­schaft für Frei­heits­rech­te e.V.\n\nDie Podi­ums­dis­kus­si­on wird ver­an­stal­tet von: \n\nAmnes­ty Inter­na­tio­nal Deutsch­land e.V.\nGesell­schaft für Frei­heits­rech­te e.V.\nGreen Legal Impact e.V.\nKam­pa­gne für Opfer ras­sis­ti­scher Poli­zei­ge­walt (KOP)\nKomi­tee für Grund­rech­te und Demo­kra­tie\nReachOut Ber­lin\nRepu­bli­ka­ni­scher Anwäl­tin­nen- und Anwäl­te­ver­ein e.V.\nVer­ein demo­kra­ti­scher Ärzt*innen\nVer­ein Rücken­de­ckung für eine akti­ve Zivil­ge­sell­schaft e.V. (kurz: RAZ)\n\n\n\n\nVer­an­stal­tungs­ort\n\nNach­bar­schafts­haus Urban­stra­ße\nUrban­stra­ße 21\nBer­lin 10961\nDeutsch­land
URL:https://www.vdaeae.de/veranstaltung/podiumsdiskussion-schmerzgriffe-als-polizeiliche-praxis-menschenrechte-schuetzen-polizeigewalt-entgegentreten/
LOCATION:Nach­bar­schafts­haus Urban­stra­ße\, Urbanstraße 21\, Berlin 10961
ATTACH;FMTTYPE=image/jpeg:https://www.vdaeae.de/wp-content/uploads/2024/10/Schmerzgriffe-scaled.jpg
END:VEVENT
END:VCALENDAR