BEGIN:VCALENDAR
VERSION:2.0
PRODID:-//vdää* - ECPv6.15.20//NONSGML v1.0//EN
CALSCALE:GREGORIAN
METHOD:PUBLISH
X-WR-CALNAME:vdää*
X-ORIGINAL-URL:https://www.vdaeae.de
X-WR-CALDESC:Veranstaltungen für vdää*
REFRESH-INTERVAL;VALUE=DURATION:PT1H
X-Robots-Tag:noindex
X-PUBLISHED-TTL:PT1H
BEGIN:VTIMEZONE
TZID:Europe/Berlin
BEGIN:DAYLIGHT
TZOFFSETFROM:+0100
TZOFFSETTO:+0200
TZNAME:CEST
DTSTART:20250330T010000
END:DAYLIGHT
BEGIN:STANDARD
TZOFFSETFROM:+0200
TZOFFSETTO:+0100
TZNAME:CET
DTSTART:20251026T010000
END:STANDARD
BEGIN:DAYLIGHT
TZOFFSETFROM:+0100
TZOFFSETTO:+0200
TZNAME:CEST
DTSTART:20260329T010000
END:DAYLIGHT
BEGIN:STANDARD
TZOFFSETFROM:+0200
TZOFFSETTO:+0100
TZNAME:CET
DTSTART:20261025T010000
END:STANDARD
BEGIN:DAYLIGHT
TZOFFSETFROM:+0100
TZOFFSETTO:+0200
TZNAME:CEST
DTSTART:20270328T010000
END:DAYLIGHT
BEGIN:STANDARD
TZOFFSETFROM:+0200
TZOFFSETTO:+0100
TZNAME:CET
DTSTART:20271031T010000
END:STANDARD
END:VTIMEZONE
BEGIN:VEVENT
DTSTART;TZID=Europe/Berlin:20260228T150000
DTEND;TZID=Europe/Berlin:20260228T180000
DTSTAMP:20260420T231716
CREATED:20260211T132904Z
LAST-MODIFIED:20260211T132904Z
UID:15018-1772290800-1772301600@www.vdaeae.de
SUMMARY:Nicht auf unserem Rücken! Demo gegen Personalabbau an der Uniklinik Freiburg
DESCRIPTION:↗Fly­er Kam­pa­gne UKF
URL:https://www.vdaeae.de/veranstaltung/nicht-auf-unserem-ruecken/
LOCATION:Platz der Alten Syn­ago­ge\, Platz der Alten Synagoge\, Freiburg
CATEGORIES:Externer Veranstaltungstipp
ATTACH;FMTTYPE=image/jpeg:https://www.vdaeae.de/wp-content/uploads/2026/02/Screenshot-2026-02-11-at-14.28.33.jpg
END:VEVENT
END:VCALENDAR