BEGIN:VCALENDAR
VERSION:2.0
PRODID:-//vdää* - ECPv6.15.20//NONSGML v1.0//EN
CALSCALE:GREGORIAN
METHOD:PUBLISH
X-ORIGINAL-URL:https://www.vdaeae.de
X-WR-CALDESC:Veranstaltungen für vdää*
REFRESH-INTERVAL;VALUE=DURATION:PT1H
X-Robots-Tag:noindex
X-PUBLISHED-TTL:PT1H
BEGIN:VTIMEZONE
TZID:Europe/Berlin
BEGIN:DAYLIGHT
TZOFFSETFROM:+0100
TZOFFSETTO:+0200
TZNAME:CEST
DTSTART:20240331T010000
END:DAYLIGHT
BEGIN:STANDARD
TZOFFSETFROM:+0200
TZOFFSETTO:+0100
TZNAME:CET
DTSTART:20241027T010000
END:STANDARD
BEGIN:DAYLIGHT
TZOFFSETFROM:+0100
TZOFFSETTO:+0200
TZNAME:CEST
DTSTART:20250330T010000
END:DAYLIGHT
BEGIN:STANDARD
TZOFFSETFROM:+0200
TZOFFSETTO:+0100
TZNAME:CET
DTSTART:20251026T010000
END:STANDARD
BEGIN:DAYLIGHT
TZOFFSETFROM:+0100
TZOFFSETTO:+0200
TZNAME:CEST
DTSTART:20260329T010000
END:DAYLIGHT
BEGIN:STANDARD
TZOFFSETFROM:+0200
TZOFFSETTO:+0100
TZNAME:CET
DTSTART:20261025T010000
END:STANDARD
END:VTIMEZONE
BEGIN:VEVENT
DTSTART;TZID=Europe/Berlin:20250426T100000
DTEND;TZID=Europe/Berlin:20250426T140000
DTSTAMP:20260420T043839
CREATED:20250411T103304Z
LAST-MODIFIED:20250411T105112Z
UID:12657-1745661600-1745676000@www.vdaeae.de
SUMMARY:Resilienz und Militarisierung des Gesundheitswesens
DESCRIPTION:Was bedeu­tet es für uns Beschäf­tig­te im Gesund­heits­sek­tor\, wenn unser Gesund­heits­we­sen „kriegs­tüch­tig“\ngemacht wer­den und sich den Erfor­der­nis­sen des Mili­tärs unter­wer­fen soll? Wie ver­hal­ten wir uns dazu? Was kön­nen wir dage­gen tun? Die­se Fra­gen möch­ten wir anhand von kur­zen Inputs gemein­sam dis­ku­tie­ren. \n↗Fly­er der Ver­an­stal­tung \nReferent*innen:\nDr. Bern­hard Win­ter (vdää*)\, Dr. Robin Mai­tra und Ute Rip­pel-Lau (bei­de IPPNW) \nOrt: Online und im Albert-Schweit­zer-Saal der Lan­des­ärz­te­kam­mer Baden-Würt­tem­berg\, Jahn­stra­ße 40\, 70597 Stutt­gart \nTeil­nah­me: Vor Ort ist Platz für ca. 30 Per­so­nen. Bit­te mel­den Sie sich hier für das Strea­ming an: ↗Anmel­dung \nVer­an­stal­tet von: \n\nÄrzt*innen in sozia­ler Ver­ant­wor­tung BW\, vdää* und IPPNW\nEine Akkre­di­tie­rung von Fort­bil­dungs­punk­ten ist bei der LÄK Baden-Würt­tem­berg bean­tragt.
URL:https://www.vdaeae.de/veranstaltung/resilienz-und-militarisierung-des-gesundheitswesens/
LOCATION:Albert-Schweit­zer-Saal der Lan­des­ärz­te­kam­mer Baden-Würt­tem­berg\, Jahnstraße 40\, Stuttgart\, 70597\, Germany
CATEGORIES:Vernastaltung mit vdää* Beteiligung
ATTACH;FMTTYPE=image/jpeg:https://www.vdaeae.de/wp-content/uploads/2025/04/ippnw-veranstalung-militarisierung.jpg
END:VEVENT
END:VCALENDAR