BEGIN:VCALENDAR
VERSION:2.0
PRODID:-//vdää* - ECPv6.15.20//NONSGML v1.0//EN
CALSCALE:GREGORIAN
METHOD:PUBLISH
X-WR-CALNAME:vdää*
X-ORIGINAL-URL:https://www.vdaeae.de
X-WR-CALDESC:Veranstaltungen für vdää*
REFRESH-INTERVAL;VALUE=DURATION:PT1H
X-Robots-Tag:noindex
X-PUBLISHED-TTL:PT1H
BEGIN:VTIMEZONE
TZID:Europe/Berlin
BEGIN:DAYLIGHT
TZOFFSETFROM:+0100
TZOFFSETTO:+0200
TZNAME:CEST
DTSTART:20250330T010000
END:DAYLIGHT
BEGIN:STANDARD
TZOFFSETFROM:+0200
TZOFFSETTO:+0100
TZNAME:CET
DTSTART:20251026T010000
END:STANDARD
BEGIN:DAYLIGHT
TZOFFSETFROM:+0100
TZOFFSETTO:+0200
TZNAME:CEST
DTSTART:20260329T010000
END:DAYLIGHT
BEGIN:STANDARD
TZOFFSETFROM:+0200
TZOFFSETTO:+0100
TZNAME:CET
DTSTART:20261025T010000
END:STANDARD
BEGIN:DAYLIGHT
TZOFFSETFROM:+0100
TZOFFSETTO:+0200
TZNAME:CEST
DTSTART:20270328T010000
END:DAYLIGHT
BEGIN:STANDARD
TZOFFSETFROM:+0200
TZOFFSETTO:+0100
TZNAME:CET
DTSTART:20271031T010000
END:STANDARD
END:VTIMEZONE
BEGIN:VEVENT
DTSTART;TZID=Europe/Berlin:20260209T193000
DTEND;TZID=Europe/Berlin:20260209T213000
DTSTAMP:20260420T214803
CREATED:20260203T162046Z
LAST-MODIFIED:20260203T162321Z
UID:14971-1770665400-1770672600@www.vdaeae.de
SUMMARY:Wir werden euch nicht helfen können!  Über die Pläne zur Militarisierung des Gesundheitswesens
DESCRIPTION:Die Deut­sche Kran­ken­haus­ge­sell­schaft stell­te fest\, dass Milliarden­beträge nötig wären\, um Kran­ken­häu­ser kriegs­tüch­tig zu machen. Nicht die Ver­sor­gung der Bevöl­ke­rung steht dabei im Vor­der­grund\, son­dern mili­tä­ri­sche Kri­te­ri­en – Nähe zu Häfen\, Flug­hä­fen und mili­tä­ri­schen Kno­ten­punk­ten. Das alles soll die Illu­si­on aufrecht­erhalten\, dass – gute Vor­be­rei­tung vor­aus­ge­setzt -\, auch im Krieg die medi­zi­ni­sche Ver­sor­gung gewähr­leis­tet wer­den kann. \nDr. med. Bern­hard Win­ter (vdää*) fragt: Was bedeu­tet es für uns Beschäf­tig­te im Gesund­heits­we­sen\, wenn die­ses „kriegs­tüch­tig” gemacht und den Erfor­der­nis­sen des Mili­tärs unter­wor­fen wer­den soll? Wel­che Aus­wir­kun­gen hat dies auf die medi­zi­ni­sche Ver­sor­gung der Bevöl­ke­rung und die Pla­nun­gen des zivi­len Gesund­heits­we­sens bereits heu­te bzw. im Kriegs­fall? Was ist schon umge­setzt? Was ist geplant? Was sind die Fol­gen? Wie ver­hal­ten wir uns dazu? Wo for­miert sich Wider­stand?\nDie­se Fra­gen möch­ten wir gemein­sam dis­ku­tie­ren.
URL:https://www.vdaeae.de/veranstaltung/wir-werden-euch-nicht-helfen-koennen-ueber-die-plaene-zur-militarisierung-des-gesundheitswesens/
LOCATION:Roter Laden\, Usagasse 26\, Friedberg\, Hessen\, 61169\, Germany
CATEGORIES:Externer Veranstaltungstipp,Vernastaltung mit vdää* Beteiligung
ATTACH;FMTTYPE=image/jpeg:https://www.vdaeae.de/wp-content/uploads/2026/02/Militarisierung-Gesundheitswesen_Seite_3.jpg
END:VEVENT
END:VCALENDAR