BEGIN:VCALENDAR
VERSION:2.0
PRODID:-//vdää* - ECPv6.15.20//NONSGML v1.0//EN
CALSCALE:GREGORIAN
METHOD:PUBLISH
X-ORIGINAL-URL:https://www.vdaeae.de
X-WR-CALDESC:Veranstaltungen für vdää*
REFRESH-INTERVAL;VALUE=DURATION:PT1H
X-Robots-Tag:noindex
X-PUBLISHED-TTL:PT1H
BEGIN:VTIMEZONE
TZID:Europe/Berlin
BEGIN:DAYLIGHT
TZOFFSETFROM:+0100
TZOFFSETTO:+0200
TZNAME:CEST
DTSTART:20230326T010000
END:DAYLIGHT
BEGIN:STANDARD
TZOFFSETFROM:+0200
TZOFFSETTO:+0100
TZNAME:CET
DTSTART:20231029T010000
END:STANDARD
BEGIN:DAYLIGHT
TZOFFSETFROM:+0100
TZOFFSETTO:+0200
TZNAME:CEST
DTSTART:20240331T010000
END:DAYLIGHT
BEGIN:STANDARD
TZOFFSETFROM:+0200
TZOFFSETTO:+0100
TZNAME:CET
DTSTART:20241027T010000
END:STANDARD
BEGIN:DAYLIGHT
TZOFFSETFROM:+0100
TZOFFSETTO:+0200
TZNAME:CEST
DTSTART:20250330T010000
END:DAYLIGHT
BEGIN:STANDARD
TZOFFSETFROM:+0200
TZOFFSETTO:+0100
TZNAME:CET
DTSTART:20251026T010000
END:STANDARD
END:VTIMEZONE
BEGIN:VEVENT
DTSTART;TZID=Europe/Berlin:20240228T161500
DTEND;TZID=Europe/Berlin:20240228T174500
DTSTAMP:20260422T031547
CREATED:20240222T122205Z
LAST-MODIFIED:20240222T122459Z
UID:10356-1709136900-1709142300@www.vdaeae.de
SUMMARY:Liberation medicine - Public Keynote: Seth Holmes
DESCRIPTION:Public Key­note: Seth Hol­mes (Uni­ver­si­ty of Cali­for­nia Ber­ke­ley): Trans­forming the Cli­ni­cal Gaze: Medi­cal Trai­nee Sub­jec­ti­va­ti­on and Orga­ni­zing for Chan­ge. \nIm Rah­men des Work­shops zu Libe­ra­ti­on Medi­ci­ne an der Uni Hal­le
URL:https://www.vdaeae.de/veranstaltung/liberation-medicine-public-keynote-seth-holmes/
LOCATION:Main Semi­nar Room\, Max Planck Insti­tu­te fpr Social Antho­pol­gy\, Advokatenweg 36\, Halle (Saale)
CATEGORIES:Externer Veranstaltungstipp
ATTACH;FMTTYPE=image/jpeg:https://www.vdaeae.de/wp-content/uploads/2024/02/Unbenannt.jpg
END:VEVENT
END:VCALENDAR