BEGIN:VCALENDAR
VERSION:2.0
PRODID:-//vdää* - ECPv6.15.20//NONSGML v1.0//EN
CALSCALE:GREGORIAN
METHOD:PUBLISH
X-WR-CALNAME:vdää*
X-ORIGINAL-URL:https://www.vdaeae.de
X-WR-CALDESC:Veranstaltungen für vdää*
REFRESH-INTERVAL;VALUE=DURATION:PT1H
X-Robots-Tag:noindex
X-PUBLISHED-TTL:PT1H
BEGIN:VTIMEZONE
TZID:Europe/Berlin
BEGIN:DAYLIGHT
TZOFFSETFROM:+0100
TZOFFSETTO:+0200
TZNAME:CEST
DTSTART:20240331T010000
END:DAYLIGHT
BEGIN:STANDARD
TZOFFSETFROM:+0200
TZOFFSETTO:+0100
TZNAME:CET
DTSTART:20241027T010000
END:STANDARD
BEGIN:DAYLIGHT
TZOFFSETFROM:+0100
TZOFFSETTO:+0200
TZNAME:CEST
DTSTART:20250330T010000
END:DAYLIGHT
BEGIN:STANDARD
TZOFFSETFROM:+0200
TZOFFSETTO:+0100
TZNAME:CET
DTSTART:20251026T010000
END:STANDARD
BEGIN:DAYLIGHT
TZOFFSETFROM:+0100
TZOFFSETTO:+0200
TZNAME:CEST
DTSTART:20260329T010000
END:DAYLIGHT
BEGIN:STANDARD
TZOFFSETFROM:+0200
TZOFFSETTO:+0100
TZNAME:CET
DTSTART:20261025T010000
END:STANDARD
END:VTIMEZONE
BEGIN:VEVENT
DTSTART;TZID=Europe/Berlin:20250507T190000
DTEND;TZID=Europe/Berlin:20250507T210000
DTSTAMP:20260421T111032
CREATED:20250425T093029Z
LAST-MODIFIED:20250425T093722Z
UID:13076-1746644400-1746651600@www.vdaeae.de
SUMMARY:Reform zum Besseren oder Mogelpackung? Die Krankenhausreform auf dem Prüfstand
DESCRIPTION:Dr. Nad­ja Rako­witz\n(Ver­ein demo­kra­ti­scher Ärzt*innen ) \n2022 kün­dig­te Bun­des­ge­sund­heits­mi­nis­ter Karl Lau­ter­bach (SPD) an\, dass die von ihm ein­ge­setz­te »Regie­rungs­kom­mis­si­on für eine moder­ne und bedarfs­ge­rech­te Kran­ken­haus­ver­sor­gung« an einem Kon­zept für eine »Über­win­dung der Fall­pau­scha­len« arbei­te. Die­ses habe sich seit sei­ner Ein­füh­rung »so stark ver­selb­stän­digt\, dass der öko­no­mi­sche Druck zu stark« sei. Von einer »dra­ma­ti­schen Ent­öko­no­mi­sie­rung der Kran­ken­häu­ser« und gar von »Revo­lu­ti­on« ist seit­dem die Rede. Im Okto­ber 2024 ist dann das Kran­ken­haus­ver­sor­gungs­ver­bes­se­rungs­ge­setz (KHVVG) ver­ab­schie­det wor­den\, das sowohl eine Reform des Finan­zie­rungs­sys­tems als auch Struk­tur­re­for­men vor­sieht und den Zweck haben soll\, die Qua­li­tät der Ver­sor­gung zu ver­bes­sern und auch Büro­kra­tie im Kran­ken­haus abzu­bau­en. Erst bei Ver­ab­schie­dung des Geset­zes rück­te der Gesund­heits­mi­nis­ter damit her­aus\, was außer­dem geplant ist: die Zen­tra­li­sie­rung der Kran­ken­haus­land­schaft und die„Schließung von hun­der­ten Kran­ken­häu­sern“. Wir wol­len die Reform in der Ver­an­stal­tung auf den Sezier­tisch legen und ana­ly­sie­ren\, wel­che Aus­wir­kun­gen sie haben wird auf die Kran­ken­haus­land­schaft\, die Ver­sor­gung und die Arbeits­be­din­gun­gen. Und nicht zuletzt wol­len wir dis­ku­tie­ren\, wie dies zu den Bemü­hun­gen passt\, das Gesund­heits­we­sen „kriegs­tüch­tig“ machen zu wol­len. \nHil­trud Meß­mer\n(Bür­ger­initia­ti­ve RuK Ros­mann Brei­sach e.V. )\nAus­wir­kun­gen der Kran­ken­haus­re­form auf klei­ne Kran­ken­häu­ser am Bei­spiel des Kran­ken­haus Brei­sach
URL:https://www.vdaeae.de/veranstaltung/reform-zum-besseren-oder-mogelpackung-die-krankenhausreform-auf-dem-pruefstand/
LOCATION:Gewerk­schafts­haus Frei­burg\, Friedrichstr. 41-43\, Freiburg\, Germany
CATEGORIES:Vernastaltung mit vdää* Beteiligung
ATTACH;FMTTYPE=image/jpeg:https://www.vdaeae.de/wp-content/uploads/2025/04/Screenshot-2025-04-25-at-11.23.27.jpg
END:VEVENT
END:VCALENDAR