BEGIN:VCALENDAR
VERSION:2.0
PRODID:-//vdää* - ECPv6.15.20//NONSGML v1.0//EN
CALSCALE:GREGORIAN
METHOD:PUBLISH
X-WR-CALNAME:vdää*
X-ORIGINAL-URL:https://www.vdaeae.de
X-WR-CALDESC:Veranstaltungen für vdää*
REFRESH-INTERVAL;VALUE=DURATION:PT1H
X-Robots-Tag:noindex
X-PUBLISHED-TTL:PT1H
BEGIN:VTIMEZONE
TZID:Europe/Berlin
BEGIN:DAYLIGHT
TZOFFSETFROM:+0100
TZOFFSETTO:+0200
TZNAME:CEST
DTSTART:20230326T010000
END:DAYLIGHT
BEGIN:STANDARD
TZOFFSETFROM:+0200
TZOFFSETTO:+0100
TZNAME:CET
DTSTART:20231029T010000
END:STANDARD
BEGIN:DAYLIGHT
TZOFFSETFROM:+0100
TZOFFSETTO:+0200
TZNAME:CEST
DTSTART:20240331T010000
END:DAYLIGHT
BEGIN:STANDARD
TZOFFSETFROM:+0200
TZOFFSETTO:+0100
TZNAME:CET
DTSTART:20241027T010000
END:STANDARD
BEGIN:DAYLIGHT
TZOFFSETFROM:+0100
TZOFFSETTO:+0200
TZNAME:CEST
DTSTART:20250330T010000
END:DAYLIGHT
BEGIN:STANDARD
TZOFFSETFROM:+0200
TZOFFSETTO:+0100
TZNAME:CET
DTSTART:20251026T010000
END:STANDARD
END:VTIMEZONE
BEGIN:VEVENT
DTSTART;VALUE=DATE:20241122
DTEND;VALUE=DATE:20241123
DTSTAMP:20260421T205552
CREATED:20241021T105305Z
LAST-MODIFIED:20241024T074858Z
UID:11858-1732233600-1732319999@www.vdaeae.de
SUMMARY:Gesundheit. System. Wechsel. - Therapien für ein krankes System
DESCRIPTION:Gesund­heits­kon­fe­renz der Grup­pe Die Lin­ke im Bun­des­tag \n\nIm Bun­des­ge­sund­heits­mi­nis­te­ri­um folgt Reform auf Reform. Ein­zig: Die pos­tu­lier­ten Refor­men ver­bes­sern weder die Gesund­heits­ver­sor­gung von Patient*innen oder Men­schen mit Pfle­ge­be­darf noch die Arbeits­be­din­gun­gen der Gesund­heits­be­schäf­tig­ten. \nUm das Gesund­heits­sys­tem im bes­ten Sin­ne nach­hal­tig und modern auf­zu­stel­len\, brau­chen wir ein grund­sätz­li­ches Umden­ken. Was tun gegen Pfle­ge­ar­mut? Wie kön­nen Gesund­heits- und Pfle­ge­be­ru­fe ihre Inter­es­sen bes­ser durch­set­zen? Ist die Bür­ger­ver­si­che­rung tot? Wie geht Pati­en­ten­ori­en­tie­rung by design? Braucht es Struk­tur­re­for­men von links? Die­se und wei­te­re Fra­gen kön­nen Sie dis­ku­tie­ren mit Vertreter*innen aus Poli­tik\, Ver­bän­den\, Wis­sen­schaft und Pra­xis\, unter ihnen Hei­di Rei­chin­nek\, Ulrich Schnei­der\, Prof. Ger­hard Tra­bert\, Prof. Tho­mas Ger­lin­ger und Dr. Nad­ja Rako­witz. \nPro­gramm:\nAuf­takt­pa­nel\, 10:30 bis 11:30 Uhr: „Der Markt regelt das nicht“\nWar­um der Kapi­ta­lis­mus das Gesund­heits- und Pfle­ge­sys­tem krank macht\nUlrich Schnei­der (ehem. Haupt­ge­schäfts­füh­rer Pari­tä­ti­scher Wohl­fahrts­ver­band)\nProf. Ger­hard Tra­bert (Sozi­al­me­di­zi­ner)\nDr. Nad­ja Rako­witz (Ver­ein demo­kra­ti­scher Ärzt*innen\, vdää*)\nHei­di Rei­chin­nek (Mit­glied des Bun­des­tags\, Die Lin­ke)\nAtes Gür­pi­nar (MdB\, Die Lin­ke) \nWork­shops (par­al­lel)\, 12:00 bis 13:30 Uhr: \n„We care! Who cares?“ Pfle­gen­de Ange­hö­ri­ge brau­chen mehr Geld!\nAtes Gür­pi­nar (MdB\, Die Lin­ke)\nMar­tin Kili­mann (Refe­rent Pfle­ge­po­li­tik\, Sozi­al­ver­band VdK Deutsch­land e. V.)\nN.N. wir pfle­gen! (Inter­es­sen­ver­band und Selbst­hil­fe pfle­gen­der Ange­hö­ri­ger e.V.\,\nange­fragt) \n„Lie­ber reich und gesund als arm und krank“ Kon­zep­te gegen Aus­gren­zung und Dis­kri­mi­nie­rung\nHei­di Rei­chin­nek (MdB\, Die Lin­ke)\nProf. Ger­hard Tra­bert (Sozi­al­me­di­zi­ner)\nDr. Siiri-Ann Doka (Bun­des­ar­beits­ge­mein­schaft Selbst­hil­fe) \n„Mit Soli­da­ri­tät mehr errei­chen“ Wie kön­nen Gesund­heits­be­ru­fe ihre Inter­es­sen bes­ser durch­set­zen?\nLisa Schlag­heck (Gesund­heits- und Kran­ken­pfle­ge­rin\, aktiv in der\nKran­ken­haus­be­we­gung)\nBar­ba­ra Sus­ec (Ver­ein­te Dienst­leis­tungs­ge­werk­schaft ver.di)\nPatri­cia Ley (Ver­band medi­zi­ni­scher Fach­be­ru­fe e.V.)\nDr. Nad­ja Rako­witz (vdää*) \n„Soli­da­risch und gerecht finan­ziert – Aber wie?“ Durch­set­zungs­per­spek­ti­ven für eine soli­da­ri­sche Gesund­heits- und Pfle­ge­ver­si­che­rung\nKath­rin Vog­ler (MdB\, Die Lin­ke)\nProf. Tho­mas Ger­lin­ger (Gesund­heits­wis­sen­schaft­ler\, Uni Bie­le­feld)\nFabi­an Mül­ler-Zetz­sche (Abtei­lungs­lei­ter Sozi­al­po­li­tik\, Sozi­al­ver­band Deutsch­land\,\nSoVD) \nMit­tags­pau­se 13:30 bis 14:15 Uhr \nWork­shops (par­al­lel)\, 14:15 bis 15:45 Uhr \n„Kahl­schlag statt Revo­lu­ti­on:“ Was bringt Lau­ter­bachs Kran­ken­haus­re­form?\nProf. Hen­ri­et­te Neu­mey­er (Deut­sche Kran­ken­haus­ge­sell­schaft\, DKG)\nHei­ke Wer­ner (Gesund­heits­mi­nis­te­rin Thü­rin­gen\, Die Lin­ke)\nJorin­de Schulz (Bünd­nis Kli­ni­k­ret­tung)\nAtes Gür­pi­nar (MdB\, Die Lin­ke) \n„Ver­lo­ren zwi­schen Kos­ten­fak­tor und Kund*in“ Wie geht Patient*innenorientierung by design?\nDr. Sabi­ne Gehr­ke-Beck (Deut­sche Gesell­schaft für All­ge­mein­me­di­zin und\nFami­li­en­me­di­zin\, DAGEM)\nTho­mas Moor­mann (Lei­ter Team Gesund­heit und Pfle­ge\, Ver­brau­cher­zen­tra­le\nBun­des­ver­band\, vzbv) \n„Dafür ist immer Geld da“ Was tun gegen die neue Kriegs­vor­be­rei­tung im Gesund­heits­we­sen?\nKath­rin Vog­ler (MdB\, Die Lin­ke)\nDr. Bern­hard Win­ter (vdää)\nUte Rip­pel-Lau (Mit­glied im Vor­stand der Deut­schen Sek­ti­on der Inter­na­tio­na­len\nÄrzt*innen für die Ver­hü­tung des Atomkrieges/Ärzt*innen in sozia­ler Ver­ant­wor­tung\,\nIPPNW) \n„Struk­tur­re­form von links?“ Wohn­ort­na­he Gesund­heits­ver­sor­gung der Zukunft\nProf. Tho­mas Ger­lin­ger (Gesund­heits­wis­sen­schaft­ler\, Uni Bie­le­feld)\nDr. Micha­el Jan­ßen (vdää)\nDr. Ber­na­dette Klap­per (Geschäfts­füh­re­rin Deut­scher Berufs­ver­band für\nPfle­ge­be­ru­fe\, DBfK) \nKaf­fee­pau­se 15:45 bis 16:15 Uhr \nAbschluss­pa­nel 16:15 bis 17:15 Uhr:\n„Men­schen­recht auf Gesund­heit – #Nur­Mit­Links“ Erwar­tun­gen an eine moder­ne Gesund­heits- und Pfle­ge­po­li­tik\nKath­rin Vog­ler (MdB\, Die Lin­ke)\nTobi­as Schul­ze (Mit­glied des Abge­ord­ne­ten­hau­ses Ber­lin\, Die Lin­ke)\nStel­la Mer­en­di­no (Gesund­heits- und Kran­ken­pfle­ge­rin\, aktiv in der\nKran­ken­haus­be­we­gung) \nAnmel­dung per E‑Mail über kathrin.vogler@bundestag.de. \n\nAnwe­sen­de MdB: \nKath­rin Vog­ler\, Hei­di Rei­chin­nek\, Ates Gür­pi­nar
URL:https://www.vdaeae.de/veranstaltung/gesundheit-system-wechsel-therapien-fuer-ein-krankes-system/
CATEGORIES:Externer Veranstaltungstipp
END:VEVENT
END:VCALENDAR