BEGIN:VCALENDAR
VERSION:2.0
PRODID:-//vdää* - ECPv6.15.20//NONSGML v1.0//EN
CALSCALE:GREGORIAN
METHOD:PUBLISH
X-ORIGINAL-URL:https://www.vdaeae.de
X-WR-CALDESC:Veranstaltungen für vdää*
REFRESH-INTERVAL;VALUE=DURATION:PT1H
X-Robots-Tag:noindex
X-PUBLISHED-TTL:PT1H
BEGIN:VTIMEZONE
TZID:Europe/Berlin
BEGIN:DAYLIGHT
TZOFFSETFROM:+0100
TZOFFSETTO:+0200
TZNAME:CEST
DTSTART:20230326T010000
END:DAYLIGHT
BEGIN:STANDARD
TZOFFSETFROM:+0200
TZOFFSETTO:+0100
TZNAME:CET
DTSTART:20231029T010000
END:STANDARD
BEGIN:DAYLIGHT
TZOFFSETFROM:+0100
TZOFFSETTO:+0200
TZNAME:CEST
DTSTART:20240331T010000
END:DAYLIGHT
BEGIN:STANDARD
TZOFFSETFROM:+0200
TZOFFSETTO:+0100
TZNAME:CET
DTSTART:20241027T010000
END:STANDARD
BEGIN:DAYLIGHT
TZOFFSETFROM:+0100
TZOFFSETTO:+0200
TZNAME:CEST
DTSTART:20250330T010000
END:DAYLIGHT
BEGIN:STANDARD
TZOFFSETFROM:+0200
TZOFFSETTO:+0100
TZNAME:CET
DTSTART:20251026T010000
END:STANDARD
END:VTIMEZONE
BEGIN:VEVENT
DTSTART;TZID=Europe/Berlin:20241014T140000
DTEND;TZID=Europe/Berlin:20241014T190000
DTSTAMP:20260420T185118
CREATED:20240909T113551Z
LAST-MODIFIED:20240909T114114Z
UID:11759-1728914400-1728932400@www.vdaeae.de
SUMMARY:Who’s got the Power? Who should have the Power? Power and Governance in Global Health Politics
DESCRIPTION:Who has the power and who should have the power? The­se ques­ti­ons are of gre­at importance for the sta­te of glo­bal health but all too often recei­ve litt­le atten­ti­on. This gap is also visi­ble in the pro­gram of the annu­al World Health Sum­mit\, which is taking place again in Ber­lin in Octo­ber 2024. We would the­r­e­fo­re like to dis­cuss the­se ques­ti­ons at a par­al­lel event and look for­ward to wel­co­ming you the­re. \nWho has the power? Which health issues make it onto the agen­da of the major insti­tu­ti­ons and con­fe­ren­ces? Which play­ers domi­na­te the deba­tes and what role do pri­va­te sec­tor actors play in sha­ping glo­bal health poli­ci­es? \nWho should have the power? In the second part of the event alter­na­ti­ves to the exis­ting sys­tem will be pre­sen­ted: From over­co­ming intellec­tu­al pro­per­ty rights to fac­tors such as debt can­cel­la­ti­on and a just tax sys­tem. \nPro­gram\n\n\n\n\n13:30 \narri­val\, regis­tra­ti­on\, cof­fee and brown bag lunch\n\n\n14:00\nWel­co­me\, Intro­duc­tion \nJulia Stoff­ner\, Bread for the World\, DPGG \n\n\n14:15\nSESSION 1: 16 YEARS OF WORLD HEALTH SUMMIT – THE SECOND MOST IMPORTANT MEETING IN GLOBAL HEALTH? \nKey Note: Power and Accoun­ta­bi­li­ty in the Glo­bal Health Are­na\nDave McCoy\, UN Uni­ver­si­ty – Inter­na­tio­nal Insti­tu­te for Glo­bal Health\, Kua­la Lum­pur \nRespon­dent: Catha­ri­na Böh­me\, WHO Gen­e­va \nQ+A\, Dis­cus­sion with audi­ence \nMode­ra­tor: Vic­to­ria Saint\, Uni­ver- sity of Bie­le­feld \n\n\n15:30\ncof­fee break\, snacks\n\n\n16:00\nSESSION 2: WHO’S GOT THE POWER? \nEqui­ty in the Pan­de­mic Trea­ty Nego­tia­ti­ons\nPedro Ale­jan­dro Vil­lar­re­al Lizár­ra­ga\, Ger­man Insti­tu­te for Inter­na­tio­nal and Secu­ri­ty Affairs \nThe role of pri­va­te finan­ce Insti­tu­ti­ons – 30 years of neo­li­be­ral Res­ha­ping of Glo­bal Health\nAnna Mar­riott\, Oxfam GB \nQ+A \, Dis­cus­sion with audi­ence \nMode­ra­tor: Chris Knauth\, Buko Phar­ma­kam­pa­gne\, DPGG \n\n\n17:00\nSESSION 3: CHALLENGING THE POWER \nPublic Phar­ma for Euro­pe: Over­co­ming the Man­tra of Intellec­tu­al Pro­per­ty as the Dri­ver of Inno­va­ti­on and Access\nAlan Sil­va\, PHM Euro­pe\, Public Phar­ma for Euro­pe \nFree­ing the money for public health: mobi­li­zing for debt reli­ef and just taxa­ti­on\nBodo Ell­mers\, Glo­bal Poli­cy Forum\, DPGG \nQ+A \, Dis­cus­sion with audi­ence \nMode­ra­tor: Frau­ke Hel­ler\, med­ico inter­na­tio­nal \, DPGG \n\n\n18:00\nwrap up\, ways for­ward\nAndre­as Wulf\, med­ico inter­na­tio­nal\, DPGG\n\n\n18:10 – 19:00\nrecep­ti­on\, drinks\, fin­ger­food\n\n\n\n\nFor bet­ter plan­ning\, plea­se regis­ter for this side event via wulf@medico.de . \nThe con­fe­rence hall is only acces­si­ble via stairs. If you need sup­port with this\, plea­se note it in your regis­tra­ti­on and we will find a solu­ti­on.
URL:https://www.vdaeae.de/veranstaltung/whos-got-the-power-who-should-have-the-power-power-and-governance-in-global-health-politics/
LOCATION:Staats­bi­blio­thek Ber­lin\, Ibe­ro-Ame­ri­ka­ni­sches Insti­tut\, Simon Boli­var Saal\, Potsdamer Straße 23\, Berlin\, 10785
CATEGORIES:Externer Veranstaltungstipp
ATTACH;FMTTYPE=image/png:https://www.vdaeae.de/wp-content/uploads/2024/09/2024-10-04_dpgg-whs-whos-got-the-power.png
END:VEVENT
END:VCALENDAR