BEGIN:VCALENDAR
VERSION:2.0
PRODID:-//vdää* - ECPv6.15.20//NONSGML v1.0//EN
CALSCALE:GREGORIAN
METHOD:PUBLISH
X-ORIGINAL-URL:https://www.vdaeae.de
X-WR-CALDESC:Veranstaltungen für vdää*
REFRESH-INTERVAL;VALUE=DURATION:PT1H
X-Robots-Tag:noindex
X-PUBLISHED-TTL:PT1H
BEGIN:VTIMEZONE
TZID:Europe/Berlin
BEGIN:DAYLIGHT
TZOFFSETFROM:+0100
TZOFFSETTO:+0200
TZNAME:CEST
DTSTART:20230326T010000
END:DAYLIGHT
BEGIN:STANDARD
TZOFFSETFROM:+0200
TZOFFSETTO:+0100
TZNAME:CET
DTSTART:20231029T010000
END:STANDARD
BEGIN:DAYLIGHT
TZOFFSETFROM:+0100
TZOFFSETTO:+0200
TZNAME:CEST
DTSTART:20240331T010000
END:DAYLIGHT
BEGIN:STANDARD
TZOFFSETFROM:+0200
TZOFFSETTO:+0100
TZNAME:CET
DTSTART:20241027T010000
END:STANDARD
BEGIN:DAYLIGHT
TZOFFSETFROM:+0100
TZOFFSETTO:+0200
TZNAME:CEST
DTSTART:20250330T010000
END:DAYLIGHT
BEGIN:STANDARD
TZOFFSETFROM:+0200
TZOFFSETTO:+0100
TZNAME:CET
DTSTART:20251026T010000
END:STANDARD
END:VTIMEZONE
BEGIN:VEVENT
DTSTART;TZID=Europe/Berlin:20240926T093000
DTEND;TZID=Europe/Berlin:20240926T170000
DTSTAMP:20260420T160247
CREATED:20240708T083334Z
LAST-MODIFIED:20240708T083405Z
UID:11439-1727343000-1727370000@www.vdaeae.de
SUMMARY:Fachtag „Gesundheitsförderung bei wohnungslosen und obdachlosen Menschen“
DESCRIPTION:Das For­schungs­pro­jekt „Neue Wege in der Gesund­heits­ver­sor­gung und Gesund­heits­för­de­rung woh­nungs­lo­ser Men­schen“ der  KSH Mün­chen\, in Koope­ra­ti­on mit der Koor­di­nie­rungs­stel­le Gesund­heit­li­che Chan­cen­gleich­heit\, lädt herz­lich zum Fach­tag „Gesund­heits­för­de­rung bei woh­nungs­lo­sen und obdach­lo­sen Men­schen“ ein.
URL:https://www.vdaeae.de/veranstaltung/fachtag-gesundheitsfoerderung-bei-wohnungslosen-und-obdachlosen-menschen/
LOCATION:Katho­li­che Stif­tungs­hoch­schu­le Mün­chen
CATEGORIES:Externer Veranstaltungstipp
END:VEVENT
END:VCALENDAR