BEGIN:VCALENDAR
VERSION:2.0
PRODID:-//vdää* - ECPv6.15.20//NONSGML v1.0//EN
CALSCALE:GREGORIAN
METHOD:PUBLISH
X-WR-CALNAME:vdää*
X-ORIGINAL-URL:https://www.vdaeae.de
X-WR-CALDESC:Veranstaltungen für vdää*
REFRESH-INTERVAL;VALUE=DURATION:PT1H
X-Robots-Tag:noindex
X-PUBLISHED-TTL:PT1H
BEGIN:VTIMEZONE
TZID:Europe/Berlin
BEGIN:DAYLIGHT
TZOFFSETFROM:+0100
TZOFFSETTO:+0200
TZNAME:CEST
DTSTART:20230326T010000
END:DAYLIGHT
BEGIN:STANDARD
TZOFFSETFROM:+0200
TZOFFSETTO:+0100
TZNAME:CET
DTSTART:20231029T010000
END:STANDARD
BEGIN:DAYLIGHT
TZOFFSETFROM:+0100
TZOFFSETTO:+0200
TZNAME:CEST
DTSTART:20240331T010000
END:DAYLIGHT
BEGIN:STANDARD
TZOFFSETFROM:+0200
TZOFFSETTO:+0100
TZNAME:CET
DTSTART:20241027T010000
END:STANDARD
BEGIN:DAYLIGHT
TZOFFSETFROM:+0100
TZOFFSETTO:+0200
TZNAME:CEST
DTSTART:20250330T010000
END:DAYLIGHT
BEGIN:STANDARD
TZOFFSETFROM:+0200
TZOFFSETTO:+0100
TZNAME:CET
DTSTART:20251026T010000
END:STANDARD
END:VTIMEZONE
BEGIN:VEVENT
DTSTART;TZID=Europe/Berlin:20240326T180000
DTEND;TZID=Europe/Berlin:20240326T191500
DTSTAMP:20260421T055633
CREATED:20240319T130554Z
LAST-MODIFIED:20240319T130554Z
UID:10664-1711476000-1711480500@www.vdaeae.de
SUMMARY:“Nie wieder” ist jetzt
DESCRIPTION:Was und wie kann ich wirk­sam auf faschis­ti­sche\, men­schen­feind­li­che und anti­de­mo­kra­ti­sche Rhe­to­rik ent­geg­nen? \nUnser Enga­ge­ment für eine kli­ma­ge­sun­de Zukunft wird durch faschis­ti­sche und anti­de­mo­kra­ti­sche Kräf­te bedroht\, die in der Mehr­heit ent­schie­de­nen Kli­ma­schutz ableh­nen. Nicht nur als Kli­ma­be­weg­te\, auch als Freund*innen und Bürger*innen machen uns die­se Ten­den­zen gro­ße Sor­gen. \nVie­le von uns fra­gen sich: was kann ich – über Demons­tra­tio­nen hin­aus – tun\, um unse­re Demo­kra­tie und Frei­heit zu ver­tei­di­gen? Indem wir dazu bei­tra­gen\, dass rechts­extre­me oder demo­kra­tie­feind­li­che Mei­nungs­äu­ße­run­gen nicht den Ton ange­ben\, sie ent­lar­ven und nicht unwi­der­spro­chen las­sen\, kön­nen wir hel­fen die Behaup­tung zu demon­tie­ren\, es gäbe eine “schwei­gen­de Mehr­heit” für sol­che Posi­tio­nen. \nWir kön­nen ler­nen\, rechts­extre­me und demo­kra­tie­feind­li­che Mythen schlag­fer­tig zu ent­kräf­ten. Und wir kön­nen den­je­ni­gen Men­schen aus unse­rem Umfeld\, die sich von sol­cher Rhe­to­rik mit­rei­ßen las­sen\, durch gute Gesprä­che Brü­cken bau­en\, damit sie sich wie­der demo­kra­ti­schen Wer­ten zuzu­wen­den. \nIn die­sem Skills Lab beschäf­ti­gen wir uns mit:  \n\nArgu­men­ten zur Ent­kräf­tung von Mythen über Migra­ti­on und Asyl­po­li­tik\,\nDen Rhe­to­rik-Tricks von Demo­kra­tie­fein­den und Popu­lis­ten und mög­li­chen Ant­wor­ten dar­auf\,\nGesprächs­tech­ni­ken\, die Brü­cken bau­en kön­nen\, zu wüten­den und von der Poli­tik ent­täusch­ten Men­schen.\nWir üben zudem zwei schwie­ri­ge Gesprächs­si­tua­tio­nen aus die­sem Kon­text\n\nKlick hier zur Anmel­dung \nLadet auch ger­ne Freund:innen und Kolleg:innen ein\, sehr ger­ne auch außer­halb des H4F/KLUG-Netz­werks! \nFalls ihr Unter­stüt­zung für die Teil­nah­me am Work­shop möch­tet (auf­grund einer Seh- oder Hör-Ein­schrän­kung oder aus ande­ren Grün­den)\, kon­tak­tiert uns ger­ne per Mail an skillslab@healthforfuture.de.
URL:https://www.vdaeae.de/veranstaltung/nie-wieder-ist-jetzt/
LOCATION:online
CATEGORIES:Externer Veranstaltungstipp
ATTACH;FMTTYPE=image/png:https://www.vdaeae.de/wp-content/uploads/2024/03/Health-For-Future-Skills-Lab1-1.png
END:VEVENT
END:VCALENDAR