BEGIN:VCALENDAR
VERSION:2.0
PRODID:-//vdää* - ECPv6.15.20//NONSGML v1.0//EN
CALSCALE:GREGORIAN
METHOD:PUBLISH
X-WR-CALNAME:vdää*
X-ORIGINAL-URL:https://www.vdaeae.de
X-WR-CALDESC:Veranstaltungen für vdää*
REFRESH-INTERVAL;VALUE=DURATION:PT1H
X-Robots-Tag:noindex
X-PUBLISHED-TTL:PT1H
BEGIN:VTIMEZONE
TZID:Europe/Berlin
BEGIN:DAYLIGHT
TZOFFSETFROM:+0100
TZOFFSETTO:+0200
TZNAME:CEST
DTSTART:20250330T010000
END:DAYLIGHT
BEGIN:STANDARD
TZOFFSETFROM:+0200
TZOFFSETTO:+0100
TZNAME:CET
DTSTART:20251026T010000
END:STANDARD
BEGIN:DAYLIGHT
TZOFFSETFROM:+0100
TZOFFSETTO:+0200
TZNAME:CEST
DTSTART:20260329T010000
END:DAYLIGHT
BEGIN:STANDARD
TZOFFSETFROM:+0200
TZOFFSETTO:+0100
TZNAME:CET
DTSTART:20261025T010000
END:STANDARD
BEGIN:DAYLIGHT
TZOFFSETFROM:+0100
TZOFFSETTO:+0200
TZNAME:CEST
DTSTART:20270328T010000
END:DAYLIGHT
BEGIN:STANDARD
TZOFFSETFROM:+0200
TZOFFSETTO:+0100
TZNAME:CET
DTSTART:20271031T010000
END:STANDARD
END:VTIMEZONE
BEGIN:VEVENT
DTSTART;TZID=Europe/Berlin:20261022T000000
DTEND;TZID=Europe/Berlin:20261023T235959
DTSTAMP:20260419T193805
CREATED:20260224T102550Z
LAST-MODIFIED:20260224T102550Z
UID:15065-1792627200-1792799999@www.vdaeae.de
SUMMARY:Public Pharma for Europe: Strengthening public health and advancing equity
DESCRIPTION:Plea­se save the new date for the second con­fe­rence of the Public Phar­ma for Euro­pe Coali­ti­on. \nWe look for­ward to wel­co­ming civil socie­ty\, acti­vists\, scho­lars and many others to con­ti­nue working towards strong public infra­struc­tu­re for medi­ci­nes and medi­cal pro­ducts across Euro­pe. \nKind­ly note that the­se dates replace tho­se shared in our pre­vious save-the-date. We app­re­cia­te your under­stan­ding. \nMore infor­ma­ti­on will fol­low soon. For any ques­ti­ons\, plea­se feel free to cont­act us at publicpharmaeurope@gmail.com.
URL:https://www.vdaeae.de/veranstaltung/public-pharma-for-europe-strengthening-public-health-and-advancing-equity/
LOCATION:Med­ico Haus\, Frankfurt am Main
CATEGORIES:Externer Veranstaltungstipp
ATTACH;FMTTYPE=image/png:https://www.vdaeae.de/wp-content/uploads/2026/02/Screenshot-2026-02-24-at-11.22.58.png
END:VEVENT
BEGIN:VEVENT
DTSTART;TZID=Europe/Berlin:20261030T160000
DTEND;TZID=Europe/Berlin:20261101T150000
DTSTAMP:20260419T193805
CREATED:20260309T110851Z
LAST-MODIFIED:20260309T110851Z
UID:15133-1793376000-1793545200@www.vdaeae.de
SUMMARY:Gesundheitspolitisches Forum 2026
DESCRIPTION:Safe the date für das dies­jäh­ri­ge Forum\, das auch gleich­zei­tig die Mit­glie­der­ver­samm­lung ist (am Sonn­tag) und unse­re 40. jäh­ri­ge Jubi­lä­ums­fei­er.
URL:https://www.vdaeae.de/veranstaltung/gesundheitspolitisches-forum-2026/
LOCATION:Franz-Meh­ring-Platz 1\, Franz-Mehring-Platz 1\, Berlin\, Germany
CATEGORIES:vdää* Veranstaltung
END:VEVENT
END:VCALENDAR