BEGIN:VCALENDAR
VERSION:2.0
PRODID:-//vdää* - ECPv6.15.20//NONSGML v1.0//EN
CALSCALE:GREGORIAN
METHOD:PUBLISH
X-WR-CALNAME:vdää*
X-ORIGINAL-URL:https://www.vdaeae.de
X-WR-CALDESC:Veranstaltungen für vdää*
REFRESH-INTERVAL;VALUE=DURATION:PT1H
X-Robots-Tag:noindex
X-PUBLISHED-TTL:PT1H
BEGIN:VTIMEZONE
TZID:Europe/Berlin
BEGIN:DAYLIGHT
TZOFFSETFROM:+0100
TZOFFSETTO:+0200
TZNAME:CEST
DTSTART:20250330T010000
END:DAYLIGHT
BEGIN:STANDARD
TZOFFSETFROM:+0200
TZOFFSETTO:+0100
TZNAME:CET
DTSTART:20251026T010000
END:STANDARD
BEGIN:DAYLIGHT
TZOFFSETFROM:+0100
TZOFFSETTO:+0200
TZNAME:CEST
DTSTART:20260329T010000
END:DAYLIGHT
BEGIN:STANDARD
TZOFFSETFROM:+0200
TZOFFSETTO:+0100
TZNAME:CET
DTSTART:20261025T010000
END:STANDARD
BEGIN:DAYLIGHT
TZOFFSETFROM:+0100
TZOFFSETTO:+0200
TZNAME:CEST
DTSTART:20270328T010000
END:DAYLIGHT
BEGIN:STANDARD
TZOFFSETFROM:+0200
TZOFFSETTO:+0100
TZNAME:CET
DTSTART:20271031T010000
END:STANDARD
END:VTIMEZONE
BEGIN:VEVENT
DTSTART;TZID=Europe/Berlin:20260912T000000
DTEND;TZID=Europe/Berlin:20260913T235959
DTSTAMP:20260419T180907
CREATED:20260309T150247Z
LAST-MODIFIED:20260309T150247Z
UID:15139-1789171200-1789343999@www.vdaeae.de
SUMMARY:Vdää* bei Manifiesta
DESCRIPTION:Mani­Fies­ta ist ein jähr­li­ches kul­tu­rel­les und poli­ti­sches Fes­ti­val in Bel­gi­en\, das von den Gesund­heits­zen­tren Méde­ci­ne pour le Peu­ple u.a. orga­ni­siert wird. Aus der Home­page: »Mani­Fies­ta – das sind zwei Tage\, um die Welt so zu sehen\, wie sie sein soll­te. Sich Alter­na­ti­ven für die Zukunft vor­stel­len\, zusam­men sein\, han­deln… Bei Mani­Fies­ta spre­chen wir die Spra­che der Soli­da­ri­tät und Viel­falt. Kom­men Sie\, fügt Euren Stein dem Gebäu­de des Wan­dels hin­zu und fei­ert mit uns. Denn Mani­Fies­ta ist vor allem das Fes­ti­val der Soli­da­ri­tät!« \n  \nDie­ses Jahr wol­len wir mit einer vdää*-Gruppe zur Mani­fies­ta nach Bel­gi­en fah­ren und auch einen Work­shop dort anbie­ten. Wenn Ihr Inter­es­se habt\, mel­det Euch in der Geschäfts­stel­le. \n 
URL:https://www.vdaeae.de/veranstaltung/vdaeae-bei-manifiesta/
LOCATION:ACEG Wel­ling­ton Hip­po­d­room\, Koningin Astridlaan 10\, Ostende\, 8400\, Belgium
CATEGORIES:Vernastaltung mit vdää* Beteiligung
ATTACH;FMTTYPE=image/jpeg:https://www.vdaeae.de/wp-content/uploads/2026/03/260309-vdaeae-manifiesta-sharepic.jpg
END:VEVENT
END:VCALENDAR