BEGIN:VCALENDAR
VERSION:2.0
PRODID:-//vdää* - ECPv6.15.20//NONSGML v1.0//EN
CALSCALE:GREGORIAN
METHOD:PUBLISH
X-WR-CALNAME:vdää*
X-ORIGINAL-URL:https://www.vdaeae.de
X-WR-CALDESC:Veranstaltungen für vdää*
REFRESH-INTERVAL;VALUE=DURATION:PT1H
X-Robots-Tag:noindex
X-PUBLISHED-TTL:PT1H
BEGIN:VTIMEZONE
TZID:Europe/Berlin
BEGIN:DAYLIGHT
TZOFFSETFROM:+0100
TZOFFSETTO:+0200
TZNAME:CEST
DTSTART:20240331T010000
END:DAYLIGHT
BEGIN:STANDARD
TZOFFSETFROM:+0200
TZOFFSETTO:+0100
TZNAME:CET
DTSTART:20241027T010000
END:STANDARD
BEGIN:DAYLIGHT
TZOFFSETFROM:+0100
TZOFFSETTO:+0200
TZNAME:CEST
DTSTART:20250330T010000
END:DAYLIGHT
BEGIN:STANDARD
TZOFFSETFROM:+0200
TZOFFSETTO:+0100
TZNAME:CET
DTSTART:20251026T010000
END:STANDARD
BEGIN:DAYLIGHT
TZOFFSETFROM:+0100
TZOFFSETTO:+0200
TZNAME:CEST
DTSTART:20260329T010000
END:DAYLIGHT
BEGIN:STANDARD
TZOFFSETFROM:+0200
TZOFFSETTO:+0100
TZNAME:CET
DTSTART:20261025T010000
END:STANDARD
END:VTIMEZONE
BEGIN:VEVENT
DTSTART;TZID=Europe/Berlin:20251101T190000
DTEND;TZID=Europe/Berlin:20251101T220000
DTSTAMP:20260419T214205
CREATED:20251007T134218Z
LAST-MODIFIED:20251007T134218Z
UID:14488-1762023600-1762034400@www.vdaeae.de
SUMMARY:Kriegstüchtige Krankenhäuser? Eine Podiumsdiskussion zur Militarisierung des Gesundheitswesens
DESCRIPTION:Die Regie­rung ruft die Kriegs­tüch­tig­keit der Gesell­schaft aus. Unser Gesund­heits­we­sen Gesund­heits­sys­tem soll im Sin­ne einer „zivil-mili­tä­ri­schen Zusam­men­ar­beit“ auf Krie­ge vor­be­rei­tet wer­den. Drin­gend benö­tig­te Res­sour­cen\, die im Gesund­heits­we­sen und sozi­al-öko­lo­gi­schen Bereich feh­len\, flie­ßen in den Auf­bau mili­tä­ri­scher Struk­tu­ren. \nWas genau bedeu­tet das für die Gesund­heits­ver­sor­gung und die dar­in Beschäf­tig­ten? Wie kön­nen wir uns dage­gen weh­ren? Dies möch­ten wir mit unse­ren Refe­ren­tin­nen und euch dis­ku­tie­ren \n  \n\nDr. Nad­ja Rako­witz (Poli­to­lo­gin und Medi­zin­so­zio­lo­gin vom vdää* )\nDer­sim Dağ­de­vi­ren (Ärz­tin und Co-Vor­sit­zen­de im Netz­werk kur­di­scher Aka­de­mi­ke­rIn­nen e.V.)\nIna (Auto­nom-femi­nis­ti­schen Orga­ni­sie­rung inner­halb des Bünd­nis­ses Rhein­me­tall Ent­waff­nen)\n\n  \nEin­tritt frei\, der Ver­an­stal­tungs­ort ist bar­rie­re­frei.
URL:https://www.vdaeae.de/veranstaltung/kriegstuechtige-krankenhaeuser-eine-podiumsdiskussion-zur-militarisierung-des-gesundheitswesens/
LOCATION:Aqua­ri­um am Kott­bus­ser Tor (Ska­lit­zer Str. 6\, 10999 Ber­lin)\, Skalitzer Str. 6\, Berlin\, 10999
ATTACH;FMTTYPE=image/jpeg:https://www.vdaeae.de/wp-content/uploads/2025/10/251101-VA-kriegt-kh-berlin-1.jpg
END:VEVENT
BEGIN:VEVENT
DTSTART;TZID=Europe/Berlin:20251107T000000
DTEND;TZID=Europe/Berlin:20251109T235959
DTSTAMP:20260419T214205
CREATED:20250407T101026Z
LAST-MODIFIED:20250514T091857Z
UID:12510-1762473600-1762732799@www.vdaeae.de
SUMMARY:Gesundheitspolitisches Forum 2025
DESCRIPTION:
URL:https://www.vdaeae.de/veranstaltung/gesundheitspolitisches-forum-2025/
LOCATION:Dres­den Zen­tral­werk\, Dresden
CATEGORIES:Gesundheitspolitisches Forum
ATTACH;FMTTYPE=image/jpeg:https://www.vdaeae.de/wp-content/uploads/2025/05/forum-2025-sharepic-safe-the-date.jpg
END:VEVENT
END:VCALENDAR