BEGIN:VCALENDAR
VERSION:2.0
PRODID:-//vdää* - ECPv6.15.20//NONSGML v1.0//EN
CALSCALE:GREGORIAN
METHOD:PUBLISH
X-WR-CALNAME:vdää*
X-ORIGINAL-URL:https://www.vdaeae.de
X-WR-CALDESC:Veranstaltungen für vdää*
REFRESH-INTERVAL;VALUE=DURATION:PT1H
X-Robots-Tag:noindex
X-PUBLISHED-TTL:PT1H
BEGIN:VTIMEZONE
TZID:Europe/Berlin
BEGIN:DAYLIGHT
TZOFFSETFROM:+0100
TZOFFSETTO:+0200
TZNAME:CEST
DTSTART:20240331T010000
END:DAYLIGHT
BEGIN:STANDARD
TZOFFSETFROM:+0200
TZOFFSETTO:+0100
TZNAME:CET
DTSTART:20241027T010000
END:STANDARD
BEGIN:DAYLIGHT
TZOFFSETFROM:+0100
TZOFFSETTO:+0200
TZNAME:CEST
DTSTART:20250330T010000
END:DAYLIGHT
BEGIN:STANDARD
TZOFFSETFROM:+0200
TZOFFSETTO:+0100
TZNAME:CET
DTSTART:20251026T010000
END:STANDARD
BEGIN:DAYLIGHT
TZOFFSETFROM:+0100
TZOFFSETTO:+0200
TZNAME:CEST
DTSTART:20260329T010000
END:DAYLIGHT
BEGIN:STANDARD
TZOFFSETFROM:+0200
TZOFFSETTO:+0100
TZNAME:CET
DTSTART:20261025T010000
END:STANDARD
END:VTIMEZONE
BEGIN:VEVENT
DTSTART;TZID=Europe/Berlin:20250815T000000
DTEND;TZID=Europe/Berlin:20250914T235959
DTSTAMP:20260420T023632
CREATED:20250811T113703Z
LAST-MODIFIED:20250815T154308Z
UID:14113-1755216000-1757894399@www.vdaeae.de
SUMMARY:Ausstellung »Kriegstüchtig« in München
DESCRIPTION:Fly­er der Ver­an­stal­tung\n  \nText der Ver­an­stal­ter:\n“Die Aus­stel­lung KRIEGSTÜCHTIG the­ma­ti­siert die rasant schnel­le Mili­ta­ri­sie­rung der Zivil­ge­sell­schaft in unse­rem Land. Sie umfasst Instal­la­tio­nen\, eine Doku­men­ta­ti­on auf Stell­ta­feln und Expo­na­te von Wer­be­mit­teln für das Mili­tär. Die Aus­stel­lung will zei­gen\, wie alle Lebens­be­rei­che dem Dik­tat des Krie­ges unter­wor­fen wer­den und wie die angeb­li­che Alter­na­tiv­lo­sig­keit einer kom­men­den krie­ge­ri­schen Aus­ein­an­der­set­zung ein­ge­häm­mert wird. Sie stellt die Fra­ge in den Raum\, ob die­se Ent­wick­lung z.B. im Inter­es­se der Verkäufer*innen bei Lidl\, der Kran­ken­schwes­tern und Pfle­ger in den Kran­ken­häu­sern sowie der Arbeiter*innen in den Betrie­ben sein kann. Doku­men­tiert wird auch der Wider­stand gegen die Mili­ta­ri­sie­rung.” \n  \n  \n  \n 
URL:https://www.vdaeae.de/veranstaltung/ausstellung-kriegstuechtig-in-muenchen/
LOCATION:Alter Gas­teig / Fat Cat\, Kellerstraße 8a\, München\, 81667\, Germany
CATEGORIES:Externer Veranstaltungstipp
ATTACH;FMTTYPE=image/jpeg:https://www.vdaeae.de/wp-content/uploads/2025/08/Screenshot-2025-08-11-at-13.35.01.jpg
END:VEVENT
BEGIN:VEVENT
DTSTART;TZID=Europe/Berlin:20250818T200000
DTEND;TZID=Europe/Berlin:20250818T213000
DTSTAMP:20260420T023632
CREATED:20250804T155132Z
LAST-MODIFIED:20250805T163623Z
UID:14061-1755547200-1755552600@www.vdaeae.de
SUMMARY:ePA aus Patient*innensicht – Vortrag und Diskussion
DESCRIPTION:Vor­trag und Dis­kus­si­on zur elek­tro­ni­schen Pati­en­ten­ak­te (ePA) mit Jür­gen Kret­schmer vom Gesund­heits­la­den Mün­chen \nDie ePA kann aus unter­schied­li­chen Blick­win­kel betrach­tet wer­den\, dabei unter­schei­det sich die Sicht von Ärzt*innen sehr stark von der Patient*innensicht. Aber auch poli­ti­sche und glo­ba­le Betrach­tun­gen sind mög­lich\, eben­so ein Blick auf die 16 euro­päi­schen Nach­bar­län­der\, die bereits eine ePA ein­ge­führt haben. \nWir wol­len zunächst damit begin­nen\, die Per­spek­ti­ve von Betroffenen-/Patient*innenperspektive ein­zu­neh­men und zu dis­ku­tie­ren\, ob und wie die ePA ein Ele­ment einer bedarfs­ge­rech­ten Ver­sor­gung sein kann. \nDer Vor­trag wird online bei zoom statt­fin­den: Link zur Ver­an­stal­tung \n 
URL:https://www.vdaeae.de/veranstaltung/epa-aus-patientinnensicht-vortrag-und-diskussion/
LOCATION:online
CATEGORIES:vdää* Veranstaltung
ATTACH;FMTTYPE=image/jpeg:https://www.vdaeae.de/wp-content/uploads/2025/08/VA-ePA-aus-Patientinnensicht-banner-1.jpg
END:VEVENT
BEGIN:VEVENT
DTSTART;TZID=Europe/Berlin:20250821T193000
DTEND;TZID=Europe/Berlin:20250821T210000
DTSTAMP:20260420T023632
CREATED:20250722T101017Z
LAST-MODIFIED:20250817T200507Z
UID:13930-1755804600-1755810000@www.vdaeae.de
SUMMARY:»Wir werden euch nicht helfen können!« Veranstaltung und Diskussion zur Broschüre gegen Militarisierung
DESCRIPTION:Release-Ver­an­stal­tung zur Bro­schü­re \nZoom-Link \n\n\nWäh­rend die­ses Vor­wort geschrie­ben wird (18.–22.06.2025)\, ist der Krieg zwi­schen Isra­el und Iran in vol­lem Gan­ge\, am 22.06. haben nun auch die USA auf Sei­ten Isra­els ein­ge­grif­fen und drei Zie­le im Iran bom­bar­diert. Immer noch wird der Ein­satz von Atom­waf­fen erwo­gen; Paki­stan und Chi­na schei­nen schon Waf­fen an den Iran zu lie­fern. Lan­ge nicht mehr war die Angst vor einem Atom­krieg so groß und auch so real wie in die­sem Moment. Der deut­sche Bun­des­kanz­ler kom­men­tier­te\, dass Isra­el mit sei­nem Angriff auf den Iran „für uns“ die „Drecks­ar­beit“ erle­di­ge. Die Poli­tik\, aber auch die Begriff­lich­kei­ten und Phan­ta­sien wer­den immer ent­setz­li­cher. Der Kampf gegen Krieg und Mili­ta­ri­sie­rung gehört neben dem Kampf gegen die Öko­no­mi­sie­rung des Gesund­heits­we­sens und dem Kampf gegen Faschis­mus zu den wesent­li­chen Tra­di­tio­nen des Ver­eins demo­kra­ti­scher Ärzt*innen. […] \nWir wol­len mit die­ser Bro­schü­re das Bewusst­sein vor allem bei Beschäf­tig­ten im Gesund­heits­we­sen schär­fen und die Dis­kus­si­on ansto­ßen\, wie wir uns gemein­sam dage­gen weh­ren kön­nen. Auch wir sind ver­zwei­felt über die die aktu­el­le poli­ti­sche Lage und wol­len kei­nes­wegs sug­ge­rie­ren\, dass wir die Ant­wor­ten auf die bren­nen­den Fra­gen oder gar Lösun­gen hät­ten. Wir ver­ste­hen den Text als Vor­schlag ins Gespräch und aus dem Zustand der Pas­si­vi­tät her­aus­zu­kom­men. Weg­du­cken\, Schwei­gen und Ver­drän­gen wer­den die zuneh­men­de Mili­ta­ri­sie­rung nicht stop­pen. Wir brau­chen eine offe­ne und lau­te Aus­ein­an­der­set­zung\, um uns gemein­sam klar gegen die Kriegs­ge­fahr zu stel­len. \nKri­tik und Ergän­zun­gen sind will­kom­men. Schreibt an die vdää*-Geschäftsstelle (kontakt(at)vdaeae.de) und fragt nach dem AK Gegen Mili­ta­ri­sie­rung und nehmt an unse­rer Dis­kus­si­on teil.
URL:https://www.vdaeae.de/veranstaltung/wir-werden-euch-nicht-helfen-koennen-veranstaltung-und-diskussion-zur-broschuere-gegen-militarisierung/
LOCATION:online
CATEGORIES:vdää* Veranstaltung
ATTACH;FMTTYPE=image/png:https://www.vdaeae.de/wp-content/uploads/2025/07/Broschuere-Militarisierung-Dummy-1.png
END:VEVENT
BEGIN:VEVENT
DTSTART;TZID=Europe/Berlin:20250825T180000
DTEND;TZID=Europe/Berlin:20250825T210000
DTSTAMP:20260420T023632
CREATED:20250802T184350Z
LAST-MODIFIED:20250802T184630Z
UID:14054-1756144800-1756155600@www.vdaeae.de
SUMMARY:Genau hinschauen – Aufräumen mit Mythen Fakten zur Gesundheitsversorgung
DESCRIPTION:Text vom Ver­an­stal­ter: \n“Ob Pfle­ge­not­stand\, Kli­nik­schlie­ßun­gen oder eine Abrech­nung nach Fall­pau­scha­len – Schlag­wor­te für vie­le Pro­ble­me im Gesund­heits­we­sen. Was unter­nom­men wird\,\nsoll immer häu­fi­ger „alter­na­tiv­los“ sein. Ist das so? Wer pro­fi­tiert wirk­lich – und wer bleibt auf der Stre­cke? Gemein­sam mit Nad­ja Rako­witz wol­len wir den Nebel hin­ter den Schlag­wor­ten lich­ten und Raum schaf­fen für nöti­ge Debat­ten: über Macht\, Geld\, Gerech­tig­keit – mit dem Blick auf Beschäf­tig­te\, Patient*innen oder Ange­hö­ri­ge. \n  \nEine Infor­ma­ti­ons­ver­an­stal­tung der DGB-Gewerk­schaf­ten für Mit­glie­der und Inter­es­sier­te!\nAnmel­dung erbe­ten: lingen@dgb.de” \n 
URL:https://www.vdaeae.de/veranstaltung/genau-hinschauen-aufraeumen-mit-mythen-fakten-zur-gesundheitsversorgung/
LOCATION:ver.di-Räume Nord­horn\, Hagenstraße 14 – 18\, 1. Etage\, Nordhorn\, 48529
CATEGORIES:Vernastaltung mit vdää* Beteiligung
END:VEVENT
END:VCALENDAR