BEGIN:VCALENDAR
VERSION:2.0
PRODID:-//vdää* - ECPv6.15.20//NONSGML v1.0//EN
CALSCALE:GREGORIAN
METHOD:PUBLISH
X-WR-CALNAME:vdää*
X-ORIGINAL-URL:https://www.vdaeae.de
X-WR-CALDESC:Veranstaltungen für vdää*
REFRESH-INTERVAL;VALUE=DURATION:PT1H
X-Robots-Tag:noindex
X-PUBLISHED-TTL:PT1H
BEGIN:VTIMEZONE
TZID:Europe/Berlin
BEGIN:DAYLIGHT
TZOFFSETFROM:+0100
TZOFFSETTO:+0200
TZNAME:CEST
DTSTART:20240331T010000
END:DAYLIGHT
BEGIN:STANDARD
TZOFFSETFROM:+0200
TZOFFSETTO:+0100
TZNAME:CET
DTSTART:20241027T010000
END:STANDARD
BEGIN:DAYLIGHT
TZOFFSETFROM:+0100
TZOFFSETTO:+0200
TZNAME:CEST
DTSTART:20250330T010000
END:DAYLIGHT
BEGIN:STANDARD
TZOFFSETFROM:+0200
TZOFFSETTO:+0100
TZNAME:CET
DTSTART:20251026T010000
END:STANDARD
BEGIN:DAYLIGHT
TZOFFSETFROM:+0100
TZOFFSETTO:+0200
TZNAME:CEST
DTSTART:20260329T010000
END:DAYLIGHT
BEGIN:STANDARD
TZOFFSETFROM:+0200
TZOFFSETTO:+0100
TZNAME:CET
DTSTART:20261025T010000
END:STANDARD
END:VTIMEZONE
BEGIN:VEVENT
DTSTART;TZID=Europe/Berlin:20250507T190000
DTEND;TZID=Europe/Berlin:20250507T210000
DTSTAMP:20260420T072048
CREATED:20250425T093029Z
LAST-MODIFIED:20250425T093722Z
UID:13076-1746644400-1746651600@www.vdaeae.de
SUMMARY:Reform zum Besseren oder Mogelpackung? Die Krankenhausreform auf dem Prüfstand
DESCRIPTION:Dr. Nad­ja Rako­witz\n(Ver­ein demo­kra­ti­scher Ärzt*innen ) \n2022 kün­dig­te Bun­des­ge­sund­heits­mi­nis­ter Karl Lau­ter­bach (SPD) an\, dass die von ihm ein­ge­setz­te »Regie­rungs­kom­mis­si­on für eine moder­ne und bedarfs­ge­rech­te Kran­ken­haus­ver­sor­gung« an einem Kon­zept für eine »Über­win­dung der Fall­pau­scha­len« arbei­te. Die­ses habe sich seit sei­ner Ein­füh­rung »so stark ver­selb­stän­digt\, dass der öko­no­mi­sche Druck zu stark« sei. Von einer »dra­ma­ti­schen Ent­öko­no­mi­sie­rung der Kran­ken­häu­ser« und gar von »Revo­lu­ti­on« ist seit­dem die Rede. Im Okto­ber 2024 ist dann das Kran­ken­haus­ver­sor­gungs­ver­bes­se­rungs­ge­setz (KHVVG) ver­ab­schie­det wor­den\, das sowohl eine Reform des Finan­zie­rungs­sys­tems als auch Struk­tur­re­for­men vor­sieht und den Zweck haben soll\, die Qua­li­tät der Ver­sor­gung zu ver­bes­sern und auch Büro­kra­tie im Kran­ken­haus abzu­bau­en. Erst bei Ver­ab­schie­dung des Geset­zes rück­te der Gesund­heits­mi­nis­ter damit her­aus\, was außer­dem geplant ist: die Zen­tra­li­sie­rung der Kran­ken­haus­land­schaft und die„Schließung von hun­der­ten Kran­ken­häu­sern“. Wir wol­len die Reform in der Ver­an­stal­tung auf den Sezier­tisch legen und ana­ly­sie­ren\, wel­che Aus­wir­kun­gen sie haben wird auf die Kran­ken­haus­land­schaft\, die Ver­sor­gung und die Arbeits­be­din­gun­gen. Und nicht zuletzt wol­len wir dis­ku­tie­ren\, wie dies zu den Bemü­hun­gen passt\, das Gesund­heits­we­sen „kriegs­tüch­tig“ machen zu wol­len. \nHil­trud Meß­mer\n(Bür­ger­initia­ti­ve RuK Ros­mann Brei­sach e.V. )\nAus­wir­kun­gen der Kran­ken­haus­re­form auf klei­ne Kran­ken­häu­ser am Bei­spiel des Kran­ken­haus Brei­sach
URL:https://www.vdaeae.de/veranstaltung/reform-zum-besseren-oder-mogelpackung-die-krankenhausreform-auf-dem-pruefstand/
LOCATION:Gewerk­schafts­haus Frei­burg\, Friedrichstr. 41-43\, Freiburg\, Germany
CATEGORIES:Vernastaltung mit vdää* Beteiligung
ATTACH;FMTTYPE=image/jpeg:https://www.vdaeae.de/wp-content/uploads/2025/04/Screenshot-2025-04-25-at-11.23.27.jpg
END:VEVENT
BEGIN:VEVENT
DTSTART;TZID=Europe/Berlin:20250508T180000
DTEND;TZID=Europe/Berlin:20250508T220000
DTSTAMP:20260420T072048
CREATED:20250417T090630Z
LAST-MODIFIED:20250417T090630Z
UID:12916-1746727200-1746741600@www.vdaeae.de
SUMMARY:8. Mai 1945\, Kontinuität oder Neuanfang? Das Menschenbild der Medizin nach 1945
DESCRIPTION:Am 8. Mai 2025 vor genau 80 Jah­ren ende­te der 2. Welt­krieg und damit auch das ver­bre­che­ri­sche Han­deln der Ärz­te­schaft. Die Aus­ein­an­der­set­zung mit der eige­nen Geschich­te war schwie­rig\, aber heu­te sind die medi­zi­ni­schen Ver­bre­chen wäh­rend der Nazi­zeit aus­führ­lich erforscht und doku­men­tiert. Aber war­um konn­ten Ärz­tin­nen und Ärz­te so han­deln\, wel­ches Men­schen-/Pa­ti­en­ten­bild ermög­lich­te ihre Taten? Um die­sen Aspekt her­aus­zu­ar­bei­ten wol­len wir uns mit zwei Vor­trä­gen und einer Podi­ums­dis­kus­si­on zunächst die kon­kre­te Situa­ti­on der Münch­ner Ärz­te­schaft in der unmit­tel­ba­ren Nach­kriegs­zeit und die ver­lo­re­nen Bemü­hun­gen um einen Neu­an­fang vor Augen füh­ren. Anschlie­ßend wol­len wir grund­sätz­lich auf die Aspek­te des ärzt­li­chen Men­schen­bil­des ein­ge­hen\, die bereits schon vor 1933 ärzt­li­ches Han­deln kenn­zeich­ne­ten\, sich in der Zeit des Natio­nal­so­zia­lis­mus radi­ka­li­sier­ten und die nach 1945 durch per­sön­li­che Kon­ti­nui­tä­ten einem Neu­an­fang im Wege stan­den. Wie hat sich die Medi­zin ihrer Ver­gan­gen­heit gestellt und wel­che Bedeu­tung hat die­se noch für die medi­zi­ni­sche Ver­sor­gung heu­te? \n  \nPro­gramm\nBegrü­ßung\nDr. med. Irm­gard Pfaf­fi nger\,\nVor­sit­zen­de ÄKBV Mün­chen \nGruß­wort\nVere­na Dietl\, Drit­te Bür­ger­meis­te­rin \n\nVor­trä­ge:\n„Leug­nen oder sich stel­len?“\nDie Münch­ner Ärz­te in der unmit­tel­ba­ren\nNach­kriegs­zeit\nProf. Dr. med. Micha­el v. Cra­nach\,\nPsych­ia­ter\, ehem. Ärztl. Direk­tor\nBezirks­kran­ken­haus Kauf­beu­ren\n(Dis-)Kontinuitäten des ärzt­li­chen\nSelbst­ver­ständ­nis­ses ange­sichts der\nnatio­nal­so­zia­lis­ti­schen Medi­zin­ver­bre­chen\nPD Dr. phil. Mathi­as Schütz\,\nLMU\, Insti­tut für Ethik\, Geschich­te und Theo­rie der Medi­zin\nLMU-Kli­ni­ken in der NS-Zeit – Vir­tu­el­ler Rund­gang\nJuli­us Pop­pel\, Assis­tenz­arzt\, Kri­ti­sche Medi­zin Mün­chen\n\n  \nPodi­ums­dis­kus­si­on\n„Die medi­zi­ni­sche Ver­sor­gung heu­te –\nohne Dis­kri­mi­nie­rung?“\nBea­trix Zurek\, Gesund­heits­re­fe­ren­tin LH Mün­chen\nVere­na Ben­te­le\, Prä­si­den­tin des Sozi­al­ver­bands VdK\nJuli­us Pop­pel\, Assis­tenz­arzt\, Kri­ti­sche Medi­zin Mün­chen\nJür­gen Soy­er\, Geschäfts­füh­rer Refu­gio Mün­chen\nAnne­ma­rie Weber\, Ärz­te der Welt (open.med Mün­chen) \nMode­ra­ti­on\nSybil­le Giel\, Baye­ri­scher Rund­funk
URL:https://www.vdaeae.de/veranstaltung/8-mai-1945-kontinuitaet-oder-neuanfang-das-menschenbild-der-medizin-nach-1945/
LOCATION:Fest­saal Altes Rat­haus\, Marienplatz 15\, München\, Germany
ATTACH;FMTTYPE=image/jpeg:https://www.vdaeae.de/wp-content/uploads/2025/04/Screenshot-2025-04-17-at-11.00.58.jpg
END:VEVENT
BEGIN:VEVENT
DTSTART;TZID=Europe/Berlin:20250514T200000
DTEND;TZID=Europe/Berlin:20250514T213000
DTSTAMP:20260420T072048
CREATED:20250513T195407Z
LAST-MODIFIED:20250513T195511Z
UID:13470-1747252800-1747258200@www.vdaeae.de
SUMMARY:Vernetzungstreffen von Berufsanfänger·innen
DESCRIPTION:Wir sind schon eine hand­voll Men­schen! Wir haben Lust in unse­rem Berufs­an­fang\, der ja über­for­dernd genug sein kann\, nicht allein zu sein. Erfah­run­gen aus­zu­tau­schen\, nai­ve Fra­gen zu stel­len\, die Exper­ti­se im Ver­ein aus­zu­nut­zen und sich beim „For­dernd sein“ den Rücken stär­ken! \nBeim letz­ten Tref­fen\n» wir haben uns mit Achim Teusch vom VdÄ* (gibt u.a. beim DGB Schu­lun­gen zu arbeits­recht­li­chen Fra­gen im Gesund­heits­be­reich) über Arbeits­zei­ten\, Dienst­mo­del­le\, Über­stun­den und ande­res unter­hal­ten. \nBeim nächs­ten Tref­fen\n» wir tau­schen uns zum The­ma Bewer­ben\, Bewer­bungs­ge­sprä­che\, Ver­hand­lung von z.B. Teil­zeit und ande­ren Fra­gen aus \nZoom-Link \nKommt auch ger­ne in unse­re Signal­grup­pe\, den Link gibt es auf Anfra­ge
URL:https://www.vdaeae.de/veranstaltung/vernetzungstreffen-von-berufsanfaenger%c2%b7innen/
LOCATION:online
CATEGORIES:vdää* Veranstaltung
ATTACH;FMTTYPE=image/jpeg:https://www.vdaeae.de/wp-content/uploads/2025/05/Screenshot-2025-05-13-at-21.54.47.jpg
END:VEVENT
BEGIN:VEVENT
DTSTART;TZID=Europe/Berlin:20250522T193000
DTEND;TZID=Europe/Berlin:20250522T213000
DTSTAMP:20260420T072048
CREATED:20250411T103535Z
LAST-MODIFIED:20250517T142446Z
UID:12660-1747942200-1747949400@www.vdaeae.de
SUMMARY:Vereinsinterne Veranstaltung zu Polikliniken und dem Poliklinik-Syndikat
DESCRIPTION:Seit Beginn des Auf­baus und der Ver­net­zung der Polikliniken/Solidarischen Stadt­teil­ge­sund­heits­zen­tren\, die mitt­ler­wei­le im Dach­ver­band “Poli­kli­nik­syn­di­kat” orga­ni­siert sind\, beglei­tet der vdää* die­se Bewe­gung.\nEini­ge unse­rer Mit­glie­der sind dabei sehr aktiv betei­ligt.\nWir wol­len bei einer ver­eins­in­ter­nen Ver­an­stal­tung zusam­men den Stand der Din­ge erfah­ren und reflek­tie­ren.\nDazu haben wir meh­re­re Per­so­nen ein­ge­la­den\, die sowohl aus der direk­ten Arbeit vor Ort aus einem der Zen­tren berich­ten wer­den\, als auch aus dem Poli­kli­nik­syn­di­kat und dem größ­ten\, aus dem Inno­va­ti­ons­fonds geför­der­ten\, Pro­jekt\, das gera­de in Ham­burg und Ber­lin ange­lau­fen ist. \nWir tref­fen uns online am 22.5.2025\, 19:30–21:30 Uhr\nZoom-Link in der dazu­ge­hö­ri­gen Mail oder auf Anfra­ge.
URL:https://www.vdaeae.de/veranstaltung/veranstaltung-zu-polikliniken-und-dem-poliklinik-syndikat/
LOCATION:online
CATEGORIES:vdää* Veranstaltung
ATTACH;FMTTYPE=image/jpeg:https://www.vdaeae.de/wp-content/uploads/2025/04/Screenshot-2025-05-17-at-16.24.26.jpg
END:VEVENT
END:VCALENDAR