BEGIN:VCALENDAR
VERSION:2.0
PRODID:-//vdää* - ECPv6.15.20//NONSGML v1.0//EN
CALSCALE:GREGORIAN
METHOD:PUBLISH
X-WR-CALNAME:vdää*
X-ORIGINAL-URL:https://www.vdaeae.de
X-WR-CALDESC:Veranstaltungen für vdää*
REFRESH-INTERVAL;VALUE=DURATION:PT1H
X-Robots-Tag:noindex
X-PUBLISHED-TTL:PT1H
BEGIN:VTIMEZONE
TZID:Europe/Berlin
BEGIN:DAYLIGHT
TZOFFSETFROM:+0100
TZOFFSETTO:+0200
TZNAME:CEST
DTSTART:20240331T010000
END:DAYLIGHT
BEGIN:STANDARD
TZOFFSETFROM:+0200
TZOFFSETTO:+0100
TZNAME:CET
DTSTART:20241027T010000
END:STANDARD
BEGIN:DAYLIGHT
TZOFFSETFROM:+0100
TZOFFSETTO:+0200
TZNAME:CEST
DTSTART:20250330T010000
END:DAYLIGHT
BEGIN:STANDARD
TZOFFSETFROM:+0200
TZOFFSETTO:+0100
TZNAME:CET
DTSTART:20251026T010000
END:STANDARD
BEGIN:DAYLIGHT
TZOFFSETFROM:+0100
TZOFFSETTO:+0200
TZNAME:CEST
DTSTART:20260329T010000
END:DAYLIGHT
BEGIN:STANDARD
TZOFFSETFROM:+0200
TZOFFSETTO:+0100
TZNAME:CET
DTSTART:20261025T010000
END:STANDARD
END:VTIMEZONE
BEGIN:VEVENT
DTSTART;TZID=Europe/Berlin:20250109T190000
DTEND;TZID=Europe/Berlin:20250109T210000
DTSTAMP:20260420T133915
CREATED:20241001T114754Z
LAST-MODIFIED:20241001T114754Z
UID:11826-1736449200-1736456400@www.vdaeae.de
SUMMARY:Gesundheit für Frauen – Selbstuntersuchung der Brust
DESCRIPTION:Ver­an­stal­tungs­rei­he des Gesund­heits­kol­lek­tivs Mün­chen e.V. ein! Unter dem Mot­to „Gesund­heit neu den­ken“ beleuch­ten wir ver­schie­de­ne The­men\, die durch sozia­le Unge­rech­tig­kei­ten stark beein­flusst wer­den und kon­kre­te Aus­wir­kun­gen auf die Gesund­heit haben. \nIn meh­re­ren Ver­an­stal­tun­gen wol­len wir Men­schen in Mün­chen zusam­men­brin­gen\, um Miss­stän­de sicht­bar zu machen und gemein­sam Lösungs­an­sät­ze für eine gerech­te­re Gesund­heits­ver­sor­gung zu ent­wi­ckeln. Es erwar­ten euch neben Inputs auch offe­ne Dis­kus­si­ons­run­den für Aus­tausch und Ideen. \nDie ers­ten Ter­mi­ne: \n\nGesund­heit für alle statt Pro­fit für weni­ge – Stadt­teil­ge­sund­heits­zen­tren als Zukunfts­mo­dell\nFrei­tag / 4. Okto­ber 2024⁄18 Uhr / EineWelt­Haus\nPsy­chi­sche Gesund­heit beginnt vor der Krank­heit – Vor­beu­gen statt behan­deln?\nDon­ners­tag / 14. Novem­ber 2024⁄19 Uhr / Kul­tur­La­den West­end\nEin­sam­keit in unse­rer Mit­te – Film­abend mit anschlie­ßen­der Dis­kus­si­on\nDon­ners­tag / 12. Dezem­ber 2024⁄19 Uhr / Kul­tur­La­den West­end\nGesund­heit für Frau­en – Selbst­un­ter­su­chung der Brust\nDon­ners­tag / 9. Janu­ar 2025⁄19 Uhr / Kul­tur­La­den West­end\n\nWer kann teil­neh­men?\nAlle Inter­es­sier­ten sind will­kom­men! Wir freu­en uns auf eure Teil­nah­me\, span­nen­de Dis­kus­sio­nen und die Mög­lich­keit\, gemein­sam an einem zukunfts­fä­hi­gen Gesund­heits­we­sen zu arbei­ten. Alle Ter­mi­ne und wei­te­re Infor­ma­tio­nen zu unse­rem Pro­jekt fin­det ihr hier: https://geko-muc.de/veranstaltungen/
URL:https://www.vdaeae.de/veranstaltung/gesundheit-fuer-frauen-selbstuntersuchung-der-brust/
LOCATION:Kul­tur­la­den­West­End
CATEGORIES:Externer Veranstaltungstipp
ATTACH;FMTTYPE=image/png:https://www.vdaeae.de/wp-content/uploads/2024/10/Instagram-Post-Veranstaltungsreihe-Teil-1-5-e1726563965148.png
END:VEVENT
BEGIN:VEVENT
DTSTART;TZID=Europe/Berlin:20250120T190000
DTEND;TZID=Europe/Berlin:20250120T200000
DTSTAMP:20260420T133915
CREATED:20250113T130837Z
LAST-MODIFIED:20250113T133126Z
UID:12053-1737399600-1737403200@www.vdaeae.de
SUMMARY:Kriegstüchtigkeit im Gesundheitswesen?
DESCRIPTION:Infor­ma­ti­on / Dis­kus­si­on \nEin gut funk­tio­nie­ren­des Gesund­heits­we­sen ist für die Kriegs­füh­rung indus­tria­li­sier­ter Staa­ten essen­ti­ell. Die Pla­nun­gen für die Mili­ta­ri­sie­rung des Gesund­heits­we­sens in Deutsch­land sind inzwi­schen weit vor­an­ge­schrit­ten. Dies wird zukünf­tig die Arbeit der Beschäf­tig­ten erheb­lich beein­flus­sen. \nDer Bevöl­ke­rung wird sug­ge­riert\, dass ein Krieg an den NATO-Gren­zen führ­bar und kon­trol­lier­bar sei. \nWie rele­vant ist heu­te noch die Paro­le der Frie­dens­be­we­gung im Gesund­heits­be­reich der 1980er Jah­re „Wir wer­den Euch nicht hel­fen kön­nen“? Wie sähe die medi­zi­ni­sche Ver­sor­gung der Zivil­be­völ­ke­rung in einem Kriegs­fall aus? Was unter­schei­det die Mili­tär­me­di­zin von zivi­ler Medi­zin?\nWo steht heu­te die Frie­dens­be­we­gung im Gesund­heits­we­sen? \n  \nEs berich­tet Dr. Bern­hard Win­ter\, Arzt und Vor­stands­mit­glied im Ver­ein demo­kra­ti­scher Ärzt*innen (vdää*)  sowie im Soli­da­ri­sches Gesund­heits­we­sen e. V. \nam 20.01.25 19:00 Uhr \nim Club Vol­taire\, Klei­ne Hoch­stra­ße 5\, Frankfurt/Main\, Knei­pe oder 2. Stock
URL:https://www.vdaeae.de/veranstaltung/kriegstuechtigkeit-im-gesundheitswesen/
LOCATION:Club Vol­taire\, Kleine Hochstraße 5\, Frankfurt
CATEGORIES:Externer Veranstaltungstipp
ATTACH;FMTTYPE=image/jpeg:https://www.vdaeae.de/wp-content/uploads/2025/01/Veranstaltung-20.1.-Frankfurt.jpg
END:VEVENT
END:VCALENDAR